BEGIN:VCALENDAR
VERSION:2.0
PRODID:icalendar-ruby
CALSCALE:GREGORIAN
METHOD:PUBLISH
BEGIN:VEVENT
DTSTAMP:20260421T150232Z
UID:17-454537@gracemaricopa.org
DTSTART:20261015T170000Z
DTEND:20261015T183000Z
CLASS:PUBLIC
CREATED:20260421T075150
DESCRIPTION:Christie Rogers leads the women through a Bible study designed 
 to challeng and equip women.
LAST-MODIFIED:20260421T075150
LOCATION:Grace Maricopa Campus
SUMMARY:Women's Daytime Grace Group
URL;VALUE=URI:https://www.gracemaricopa.org/events/womens-daytime-grace-gro
 up/2026-10-15
ATTACH;FILENAME=WomenOfGrace.png;FMTTYPE=image/png:https://dq5pwpg1q8ru0.cl
 oudfront.net/2025/11/30/22/06/21/8e3707ee-f36f-4118-bd78-abdd398cbfb2/Wome
 nOfGrace.png
END:VEVENT
END:VCALENDAR
