BEGIN:VCALENDAR
VERSION:2.0
PRODID:icalendar-ruby
CALSCALE:GREGORIAN
METHOD:PUBLISH
BEGIN:VEVENT
DTSTAMP:20260422T001035Z
UID:21-455796@gracemaricopa.org
DTSTART:20260927T160000Z
DTEND:20260927T171500Z
CLASS:PUBLIC
CREATED:20260421T154615
DESCRIPTION:MIchael Miller leads this Sunday morning Bible study in the san
 ctuary.
LAST-MODIFIED:20260421T154615
LOCATION:Grace Maricopa Campus
SUMMARY:Sunday Morning Bible Study
URL;VALUE=URI:https://www.gracemaricopa.org/events/sunday-morning-bible-stu
 dy/2026-09-27
ATTACH;FILENAME=m4tA.jpg;FMTTYPE=image/jpeg:https://dq5pwpg1q8ru0.cloudfron
 t.net/2025/12/01/00/05/56/11d9a4a5-6665-41e3-bb81-81fc7d060177/m4tA.jpg
END:VEVENT
END:VCALENDAR
