BEGIN:VCALENDAR
VERSION:2.0
PRODID:icalendar-ruby
CALSCALE:GREGORIAN
METHOD:PUBLISH
BEGIN:VEVENT
DTSTAMP:20260420T015239Z
UID:20-450691@gracemaricopa.org
DTSTART:20260930T233000Z
DTEND:20261001T010000Z
CLASS:PUBLIC
CREATED:20260419T172124
DESCRIPTION:On Wednesdays\, the saints gather at Grace Maricopa for a time 
 of intentional prayer.
LAST-MODIFIED:20260419T172124
LOCATION:Grace Maricopa Campus
SUMMARY:Prayer Ministry
URL;VALUE=URI:https://www.gracemaricopa.org/events/prayer-ministry/2026-09-
 30
ATTACH;FILENAME=PrayerMinistry.png;FMTTYPE=image/png:https://dq5pwpg1q8ru0.
 cloudfront.net/2025/12/01/00/01/53/fc74ecc8-62d3-4163-b283-1e8421d8b5df/Pr
 ayerMinistry.png
END:VEVENT
END:VCALENDAR
