BEGIN:VCALENDAR
VERSION:2.0
PRODID:icalendar-ruby
CALSCALE:GREGORIAN
METHOD:PUBLISH
BEGIN:VEVENT
DTSTAMP:20260421T231829Z
UID:14-455610@gracemaricopa.org
DTSTART:20260923T010000Z
DTEND:20260923T030000Z
CLASS:PUBLIC
CREATED:20260421T154614
DESCRIPTION:Pastor Micheal leads the Men of Grace in the journey to Biblica
 l Manhood.
LAST-MODIFIED:20260421T154614
LOCATION:Grace Maricopa Campus
SUMMARY:Men's Grace Group
URL;VALUE=URI:https://www.gracemaricopa.org/events/mens-grace-group/2026-09
 -22
ATTACH;FILENAME=MenOfGrace2.jpg;FMTTYPE=image/jpeg:https://dq5pwpg1q8ru0.cl
 oudfront.net/2025/11/30/21/47/34/d282bf80-72a0-4fde-97ef-3daf3c47bfdb/MenO
 fGrace2.jpg
END:VEVENT
END:VCALENDAR
